BEGIN:VCALENDAR
VERSION:2.0
PRODID:-//Ja tegen Nu - ECPv6.0.9//NONSGML v1.0//EN
CALSCALE:GREGORIAN
METHOD:PUBLISH
X-ORIGINAL-URL:https://jategennuacademie.nl
X-WR-CALDESC:Evenementen voor Ja tegen Nu
REFRESH-INTERVAL;VALUE=DURATION:PT1H
X-Robots-Tag:noindex
X-PUBLISHED-TTL:PT1H
BEGIN:VTIMEZONE
TZID:Europe/Amsterdam
BEGIN:DAYLIGHT
TZOFFSETFROM:+0100
TZOFFSETTO:+0200
TZNAME:CEST
DTSTART:20260329T010000
END:DAYLIGHT
BEGIN:STANDARD
TZOFFSETFROM:+0200
TZOFFSETTO:+0100
TZNAME:CET
DTSTART:20261025T010000
END:STANDARD
BEGIN:DAYLIGHT
TZOFFSETFROM:+0100
TZOFFSETTO:+0200
TZNAME:CEST
DTSTART:20270328T010000
END:DAYLIGHT
BEGIN:STANDARD
TZOFFSETFROM:+0200
TZOFFSETTO:+0100
TZNAME:CET
DTSTART:20271031T010000
END:STANDARD
END:VTIMEZONE
BEGIN:VEVENT
DTSTART;VALUE=DATE:20261029
DTEND;VALUE=DATE:20270612
DTSTAMP:20260425T182434
CREATED:20260317T120824Z
LAST-MODIFIED:20260420T112805Z
UID:12052-1793232000-1812758399@jategennuacademie.nl
SUMMARY:Opleiding Lichaamsgericht Coach
DESCRIPTION:Leer in 19 dagen op een diepe laag te coachen\nOpleiding Lichaamsgericht Coach\nLichaamstaal is de basis van alle taal\, het lichaam bevat informatie en herinneringen die woorden niet altijd kunnen geven. Spanning\, adem\, houding en microbewegingen laten zien wat er speelt: in het hier‑en‑nu en in het systeem waar iemand uit komt. Lichaamsgericht coachen maakt coaching completer\, zachter én effectiever. Het helpt om: \n\nsneller tot de kern te komen\ndieper en rustiger te begeleiden\ncliënten te helpen hun grenzen en ja/nee te voelen\nsignalen van stress of blokkade te herkennen\nregulatie en veiligheid te versterken\nhet zelf herstellend vermogen te activeren\n\nVoor wie is deze opleiding bedoeld?\nBen je begeleider\, maatschappelijk werker\, therapeut\, (team)coach\, loopbaan- of re-integratiecoach of (beginnend) systeemopsteller\, en wil je leren werken met de wijsheid van het lichaam om je begeleiding te verdiepen en te verbreden? \nIn deze opleiding tot Lichaamsgericht Coach ontwikkel je belichaamd bewustzijn\, leer je lichaamstaal lezen\, en ontdek je hoe je het lichaam veilig en professioneel inzet binnen coaching of systemisch werk. Je hoeft geen ervaring te hebben met lichaamswerk\, wél de wens om te zakken\, te voelen en te groeien. \nLichaamsgericht coachen is een krachtige aanvulling op elke coachpraktijk\, omdat het hele systeem van de mens meegenomen wordt: het lijf\, het bewustzijn en de relatie.\nDeze drie‑eenheid vormt de kern van deze opleiding. \nHet doel van deze opleiding\nSteeds meer begeleiders en coaches ontdekken hoe waardevol het lichaam is als kompas. Het lichaam laat zien: \n\nwaar spanning zit\nwaar beweging nodig is\nwaar grenzen overschreden worden\nwelke positie zwaar voelt\nwaar loyaliteit of verbinding stroomt\nwat een ja of nee is in het systeem\n\nDeze opleiding biedt een stevige belichaamde basis voor iedereen die coacht\, systemisch werkt of daarmee wil starten. Je leert om vanuit je lichaam te kijken\, te voelen en te handelen\, zodat je opener\, veiliger en zuiverder een veld kunt dragen. \nNiet therapeutisch  en wél diepgaand \nDeze opleiding is geen therapie en leidt geen therapeuten op.\nWe werken binnen een professioneel coachkader\, zonder: \n\ntraumabehandeling\nregressiewerk\ntherapeutische interventies\ndiagnose of analyse\n\nWe werken wel met: \n\nlichaamsgerichte coaching technieken\nbelichaamde aanwezigheid\nfenomenologische waarneming\nsystemisch besef\ngrensbewustzijn en regulatie\nveilige expressie\n\nHet resultaat na het volgen van deze opleiding\nIn deze intensieve opleiding tot Lichaamsgericht Coach leer je te werken met: \n\ngronding en lichaamsbewustzijn\nademwerk binnen coaching\nherkennen van spanning en segmenten\nsensaties en gevoelens als informatiebron\neen belichaamde ja/nee\nexpressieve werkvormen (niet therapeutisch)\nholding space en presence\nrelationele dynamiek en co‑regulatie\nde basis van systemisch kijken vanuit het lijf\nveiligheid\, grenzen en consent\nfenomenologisch waarnemen\nzelf herstellend vermogen te ondersteunen\nervaren → zakken → oefenen → integreren\nvertragen i.p.v. versnellen\nhet zenuwstelsel\nveiligheid op te bouwen door herhaling en ritme\nhet lijf tijd te geven om te openen\nprofessionele belichaming\n\nAlle modules zijn opgebouwd vanuit het tempo van het lijf: zacht\, veilig en stap voor stap. \nProgramma\nHet programma beslaat 9 Blokken van 2 dagen en 1 intervisie dag \nWORTELEN \nBlok 1 – Gronding & Basisveiligheid – (2 dagen) \n\nIn het lijf landen\nNervus vagus basics\nGroepsveiligheid\nFenomenologisch waarnemen (introductie)\n\nBlok 2 – Adem & Regulatie in de ervaring (2 dagen) \n\nAdem als instrument voor regulatie\nBewust ademwerk (zacht en veilig)\nOpmerken van lijfreacties\nAdem en grenzen\n\nBlok 3 – Spanning\, Ontspanning & Segmenten (2 dagen) \n\nBio-energetica segmenten\nSpanningspatronen herkennen\nKarakterstructuren & lijfreacties\nEerste expressie van spanning\n\nIntervisie dag (1 dag) \nGROEIEN \nBlok 4 – Jezelf welkom heten: (De 5 V’s) (2 dagen) \nVeiligheid – Voeden – Verwondering – Vrijheid – Vitaliteit \n\nZelf co-regulatie\nInterne bedding\nMildheid naar het lijf\nVan lichaamsbewustzijn naar lichaamsvriendelijkheid\n\nBlok 5 – Gevoelens en Sensaties als informatiebron (2 dagen) \n\nSomatische signalen lezen\nHet verschil tussen emotie en sensatie\nHet lichaam als kompas\nWerken met impulsen en micro-expressies\n\nBlok 6 – Psychodrama / expressieve lichaamsinterventies (2 dagen) \n\nJack Painter‑inspiraties\nRollen\, beweging\, expressie\nGrenzen en consent bij expressie\nDe kracht van uiting en in beweging zetten wat in het lijf vastzit\n\nBLOEIEN \nBlok 7 – Holding the Space & Embodied Presence (2 dagen) \n\nAanwezig zijn in je eigen lijf\nAanwezig blijven bij emoties van de ander\nCo-regulatie\nStilte\, vertraging\, afstemming\n\nBlok 8 – Ja/Nee + Relationele Dynamiek (lichte overdracht) (2 dagen) \n\nLichamelijke ja/nee reacties\nGrenzen herkennen en uitspreken\nRelationele veiligheid\nOverdracht/tegenoverdracht (functioneel\, niet therapeutisch)\nDe grens van coaching vs. therapie\n\nBlok 9 Eindvoorbereiding & toetsen (2 dagen) \n\nOefensessies\nReflectie\nEindopdracht\n\nData\n\nBlok 1: donderdag 29 en vrijdag 30 oktober 2026\nBlok 2: donderdag 19 en vrijdag 20 november 2026\nBlok 3: donderdag 17 en vrijdag 18 december 2026\nBlok 4: donderdag 14 en vrijdag 15 januari 2027\nIntervisie dag: maandag 1 februari 2027\nBlok 5: donderdag 18 en vrijdag 19 februari 2027\nBlok 6: donderdag 11 en vrijdag 12 maart 2027\nBlok 7: donderdag 8 en vrijdag 9 april 2027\nBlok 8: donderdag 13 en vrijdag 14 mei 2027\nBlok 9: donderdag 10 en vrijdag 11 juni 2027\n\nWil je op de hoogte gehouden worden over de volgende editie? laat het ons weten \nVoorwaarde certificaat\n\nVolledige aanwezigheid (2 dagdelen missen)\nDeelname aan de Integratie dag\nActieve deelname aan oefeningen\nBelichaamde aanwezigheid laten zien\nProfessioneel binnen het coachkader werken (geen therapie)\nVeiligheid en integriteit in de groep\nToetsingsopdracht met positief resultaat\n\nDe toets bestaat uit: \n\neen reflectieverslag over jouw lichaamsgerichte ontwikkeling;\neen literatuurstudie (podcast + 2 boeken);\nen een eindopdracht/sessie in blok 9\n\nOverige informatie\n\nDe opleiding wordt gegeven in groepen van minimaal 8 tot maximaal 12 deelnemers.\nOpleidingsdagen: We starten om 09.30 uur en eindigen om 16.00 uur. Er is voldoende ruimte voor pauzes\, integratie en lichaamsbewust werken.\nDe investering voor de volledige opleiding bedraagt: € 3795\,- .\nKoffie\, thee en lunch zijn inbegrepen.\nDe literatuurkosten (podcast + boeken) zijn niet inbegrepen.\n\nJouw opleider\nVivian Gorissen\, lichaamsgericht coach en opleider.
URL:https://jategennuacademie.nl/aanbod/opleiding-lichaamsgericht-coach/
LOCATION:Ja tegen Nu Academie Valkenburgerweg\, Valkenburgerweg 19\, Heerlen\, Limburg\, 6411BM\, Nederland
CATEGORIES:Opleidingen
ATTACH;FMTTYPE=image/jpeg:https://jategennuacademie.nl/wp-content/uploads/2026/03/davemeier-tree-569275_1920.jpg
END:VEVENT
BEGIN:VEVENT
DTSTART;VALUE=DATE:20261102
DTEND;VALUE=DATE:20261104
DTSTAMP:20260425T182434
CREATED:20220922T110754Z
LAST-MODIFIED:20260420T112901Z
UID:4456-1793577600-1793750399@jategennuacademie.nl
SUMMARY:Tafelopstellingen
DESCRIPTION:Leer de onderstroom te benutten\nTraining Tafelopstellingen\nErvaar de meest praktische manier om systemisch te werken in individuele coaching of relatie vraagstukken! Op veler verzoek is deze training terug op onze agenda\, maar dan wel aangevuld met een rijkere ervaring die opgedaan is in de vele opstellingen die Nicki in de afgelopen jaren heeft mogen begeleiden. \nTafelopstellingen (2 dagen)\n\nBen jij coach\, opsteller\, loopbaanadviseur\, therapeut\, hulpverlener\, mediator\, advocaat\, leidinggevende of werk je op een andere manier met mensen en ben je nieuwsgierig naar de enorme impact van het systemisch werk? Ontdek dan de tafelopstelling als onderzoeksinstrument waardoor je een andere en diepere laag in jouw coaching en/of begeleiding aanspreekt. De thema’s die in het systemisch werk vaker naar voren komen zijn oa: burn-out\, conflicten\, leiderschap\, relaties\, ouderschap en opvoeding\, scheiding\, loopbaanvraagstukken\, onzekerheid en faalangst\, gezondheid\, acceptatie en rouw. \nWat is het resultaat voor mij na deze training?\nNa deze workshop ben je direct in staat om de basisbeginselen toe te passen in 1-op- 1-situaties in jouw dagelijks werk. Tijdens deze training leer je de 3 wetmatigheden van het systemisch werk kennen\, hoe je het eerste beeld neerzet en krijg je inzicht in de vele mogelijke interventies die je kan inzetten. \nDoelgroep\nDeze training is bedoeld voor coaches\, loopbaanadviseurs\, leidinggevenden\, therapeut\, hulpverleners\, mediators\, behandelaren\, HR medewerkers en advocaten. We gaan uit van HBO werk- en denkniveau. \nProgramma\n\nWetmatigheden van het systemisch werk\nSystemisch kijken naar jezelf\nSystemische intake\nHet eerste beeld neerzetten\nInterventies en rituelen uit het systemisch werk\nOefenen en feedback\n\nData\n\n02 en 03 november 2026 21ste editie in Heerlen\, locatie Ja tegen Nu Academie\n\nWil je op de hoogte gehouden worden over de volgende editie? laat het ons weten \nOverige informatie\n\nOngeveer een maand voorafgaand aan de training ontvang je een reader. Dit vraagt circa 1 uur aan voorbereidingstijd\nWe werken in een groep van minimaal 8 en maximaal 14 deelnemers\nDeze tweedaagse begint om 09:30 en eindigt omstreeks 16:30 uur\nDe investering voor deze tweedaagse training bedraagt € 1095\,- en is vrijgesteld van BTW. Een basis set houten poppetjes\, de vragen-waaier\, lunch\, koffie & thee zijn inbegrepen.\nJe ontvangt een certificaat van deelname\nAan de training Tafelopstellingen zijn 12 Permanente Educatie uren toegekend door de Nederlandse Orde van Beroepscoaches (NOBCO). Meer informatie tref je aan op: nobco.nl\n\nJouw trainer\nNicki van Heugten is deze dagen jouw trainer.
URL:https://jategennuacademie.nl/aanbod/tafelopstellingen/
LOCATION:Ja tegen Nu Academie Valkenburgerweg\, Valkenburgerweg 19\, Heerlen\, Limburg\, 6411BM\, Nederland
CATEGORIES:Trainingen
ATTACH;FMTTYPE=image/jpeg:https://jategennuacademie.nl/wp-content/uploads/2022/09/FotoWaaier-19.jpeg
END:VEVENT
BEGIN:VEVENT
DTSTART;VALUE=DATE:20261104
DTEND;VALUE=DATE:20261106
DTSTAMP:20260425T182434
CREATED:20241205T092303Z
LAST-MODIFIED:20260420T102647Z
UID:10091-1793750400-1793923199@jategennuacademie.nl
SUMMARY:Kennismaken met Systemisch Werk voor Professionals
DESCRIPTION:Ook nieuwsgierig naar het Systemisch Werk & Opstellingen?\n\nKennismaken met Systemisch Werk voor Professionals\nWerk jij in het Sociaal Domein\, met en voor mensen en heb jij altijd al eens kennis willen maken met het systemisch werk? Voel je niet de behoefte om een jarenlange opleiding te volgen of wil je juist graag eerst ervaren of onze Academie bij jou past? Dan is deze 2-daagse training ‘Kennismaken met Systemisch Werk voor Professionals’ wellicht iets voor jou. Tijdens deze praktijk gerichte dagen gaan we samen het systemisch werk verkennen & laten we jou op een laagdrempelige manier ervaren wat het systemisch werk voor jou en jouw werk kan betekenen. \nKennismaken met Systemisch Werk voor Professionals (2 dagen)\nDeze 2-daagse training is perfect voor coaches\, counselors\, behandelaars\, HR-professionals en iedereen die in zijn werk te maken heeft met mensen en dynamieken binnen gezinnen\, teams of organisaties. Werk je met gezinnen\, binnen de zorg\, HR of begeleiding? Of wil je als professional meer inzicht in de onderlinge patronen binnen een systeem? Dan is dit de perfecte kans om systemisch werk op een verdiepende manier te leren kennen. \nWat gaan we doen?\nTijdens deze tweedaagse gaan we je kennis laten maken met systemisch kijken & ervaren. Dit doen we door achtergrondinformatie af te wisselen met praktische opdrachten. Ook zullen we voor een aantal deelnemers een vraag opstellen waardoor de kracht van het systemisch werk ervaren\, gevoeld en gezien kan worden. Na deze dagen heb je voldoende handvaten en ervaring opgedaan om het systemisch werk te kunnen plaatsen. Je kan vanaf dit moment systemisch naar jezelf en de wereld om je heen te kijken. \nWat komt er aan bod tijdens deze tweedaagse training?\n\nIntroductie in het systemisch werk\nToelichting en ervaren van de uitgangspunten van het systemisch werk\,\nErvaren van diverse soorten opstellingen (groot\, klein\, in stilte e.d.)\nVertragen\, vertrouwen\, voelen en verduren\nIntroductie en ervaren van Holding Space\n\nData\n\n4 & 5 november 2026 3de editie in Heerlen\, locatie Ja tegen Nu Academie.\nWil je op de hoogte gehouden worden? laat het ons weten\n\nOverige informatie\n\nWe werken in een groep van minimaal 10 en maximaal 15 deelnemers\nDeze tweedaagse begint om 09:30 en eindigt omstreeks 16:00 uur\nDe investering voor deze tweedaagse training bedraagt € 499\,- en is vrijgesteld van BTW. Lunch\, koffie & thee zijn inbegrepen eventuele prijswijzigingen voorbehouden\nJe ontvangt een certificaat van deelname\n\nJouw trainers\nMaud Amkreutz – Godschalk en Dirk de Koning\, beiden opgeleid tot Systeemopsteller\, begeleiden jou deze dagen.
URL:https://jategennuacademie.nl/aanbod/kennismaken-met-systemisch-werk-voor-professionals/
LOCATION:Ja tegen Nu Academie Valkenburgerweg\, Valkenburgerweg 19\, Heerlen\, Limburg\, 6411BM\, Nederland
CATEGORIES:Trainingen
ATTACH;FMTTYPE=image/png:https://jategennuacademie.nl/wp-content/uploads/2024/12/ISW.png
END:VEVENT
END:VCALENDAR