BEGIN:VCALENDAR
VERSION:2.0
PRODID:-//Ja tegen Nu - ECPv6.0.9//NONSGML v1.0//EN
CALSCALE:GREGORIAN
METHOD:PUBLISH
X-WR-CALNAME:Ja tegen Nu
X-ORIGINAL-URL:https://jategennuacademie.nl
X-WR-CALDESC:Evenementen voor Ja tegen Nu
REFRESH-INTERVAL;VALUE=DURATION:PT1H
X-Robots-Tag:noindex
X-PUBLISHED-TTL:PT1H
BEGIN:VTIMEZONE
TZID:Europe/Amsterdam
BEGIN:DAYLIGHT
TZOFFSETFROM:+0100
TZOFFSETTO:+0200
TZNAME:CEST
DTSTART:20260329T010000
END:DAYLIGHT
BEGIN:STANDARD
TZOFFSETFROM:+0200
TZOFFSETTO:+0100
TZNAME:CET
DTSTART:20261025T010000
END:STANDARD
BEGIN:DAYLIGHT
TZOFFSETFROM:+0100
TZOFFSETTO:+0200
TZNAME:CEST
DTSTART:20270328T010000
END:DAYLIGHT
BEGIN:STANDARD
TZOFFSETFROM:+0200
TZOFFSETTO:+0100
TZNAME:CET
DTSTART:20271031T010000
END:STANDARD
END:VTIMEZONE
BEGIN:VEVENT
DTSTART;VALUE=DATE:20260521
DTEND;VALUE=DATE:20270403
DTSTAMP:20260424T153629
CREATED:20221003T122401Z
LAST-MODIFIED:20260421T063020Z
UID:4750-1779321600-1806710399@jategennuacademie.nl
SUMMARY:Opleiding Systemisch Begeleider en Opsteller
DESCRIPTION:Leer in 24 dagen systemisch te begeleiden.\nOpleiding Systemisch Begeleider en Opsteller\nDit is de voormalige opleiding Familie- en Systeemopsteller. Het familiesysteem strekt zich over meerdere generaties uit. Wie wij nu zijn\, heeft alles te maken met ons verleden. Iedereen heeft zijn eigen plek in het systeem en er is sprake van een ordening. Het op een diep niveau leren kennen van de eigen plek\, de plek van anderen en de acceptatie hiervan\, kan tot veel inzicht\, beweging en verandering leiden. Wanneer een of meer van deze aspecten in een systeem in de knel komen\, ontstaan verschillende dynamieken. Voorbeelden hiervan zijn: je boven of onder iemand plaatsen\, iets dragen voor iemand anders in het systeem\, de opgaven van iemand anders vervullen of onverwerkte emoties van een ander overnemen. Een aantal symptomen zijn dan het gevolg; aan kracht verliezen\, onbedoelde ruzies\, uitsluiting van een van de (familie)leden\, ziekte\, verslaving of onduidelijke lichamelijke klachten. \nHet Systemisch Werk biedt door opstellingen en andere werkvormen mogelijkheden om dieper in een systeem te kijken. Zo wordt inzicht verkregen in hoe mensen verstrikt zijn in de systemen waarvan zij deel uitmaken\, ongeacht of dit een familie– of organisatiesysteem is. Oplossingen worden mogelijk als de verstoorde structuur eenmaal zichtbaar is. Dan kunnen de relaties weer in overeenstemming komen met de natuurwetten\, in het systemisch werk ook wel de wetmatigheden of basisprincipes genoemd. \nDoelgroep\nIedereen die zichzelf op een diepe laag wil leren kennen en/of opstellingen wil leren begeleiden is van harte welkom. Je bent in staat om op professionele manier te reflecteren op je eigen handelen en je bent bereid om te leren\, ook wanneer het even moeilijk is. Het is behulpzaam wanneer je ervaring hebt met coachen of begeleiden maar geen voorwaarde voor deelname. \nDoel\nIn deze opleiding leer je mensen te begeleiden vanuit een groot “Ja” tegen alles wat er is en natuurlijk ook zelf opstellingen te begeleiden. Het is een persoonlijk én professioneel groeitraject. Je ontvangt het certificaat na het volgen van alle blokken\, de intervisie\, je persoonlijke reflectieproces\, literatuurstudie\, het inbrengen van een eigen vraag én het begeleiden van een opstelling. \nProgramma\nBlok 1: Inleiding in het systemisch werk\nBlok 2: Holding space\nBlok 3: Ouders en kinderen & moeder- en vaderlijnen\nBlok 4: Samengestelde gezinnen en adoptie\nBlok 5: Partnerrelaties\nBlok 6: Human Design en opstellingen (door Susan Boumans)\nBlok 7: Tafelopstellingen en vloerankers\nBlok 8: Geheimen en vergeving\nBlok 9: Lichaamswerk\, ziekte en gezondheid (door Vivian Gorissen)\nBlok 10: Organisatie-en teamopstellingen\nBlok 11: De oogst: eindopstellingen\, toetsing en certificering\nBlok 12: Opstellen met Paarden (planning is afhankelijk van het weer/seizoen) (door Marie Therese Corbeij) \nData\nEditie 10:\n\nBlok 1: donderdag 21 en vrijdag 22 mei 2026\nBlok 2: donderdag 18 en vrijdag 19 juni 2026\nBlok 3: donderdag 16 en vrijdag 17 juli 2026\nBlok 4: donderdag 20 en vrijdag 21 augustus 2026\nBlok 12: Opstellen met Paarden woensdag 2 en donderdag 3 september 2026\nBlok 5: maandag 28 en dinsdag 29 september 2026\nBlok 6: donderdag 5 en vrijdag 6 november 2026\nBlok 7: donderdag 3 en vrijdag 4 december 2026\nBlok 8: donderdag 7 en vrijdag 8 januari 2027\nBlok 9: donderdag 4 en vrijdag 5 februari 2027\nBlok 10: donderdag 4 en vrijdag 5 maart 2027\nBlok 11: donderdag 1 en vrijdag 2 april 2027\n\nNB. Gemiste opleidingsdagen kunnen in overleg altijd ingehaald worden. \nWil je op de hoogte gehouden worden over de volgende editie? laat het ons weten \nVoorwaarde Certificaat\nAan het eind van de opleiding ontvang je een certificaat van deelname. \nVoorwaarden voor toekenning van dit certificaat zijn; \n\nJe aanwezigheid gedurende het hele programma\nDeelname aan 2 intervisie bijeenkomsten (online of live)\nPositieve beoordeling op de toetsingsopdracht dat bestaat uit reflectie op jouw begeleiderschap\, de literatuurstudie (6 boeken) en een opstelling\nHet inbrengen van een eigen vraag in een opstelling\nHet diep doorvoeld kunnen buigen voor jouw ouders en jouw afkomst\n\nOverige informatie\n\nWe werken in een groep van minimaal 8 en maximaal 12 deelnemers. Door de kleine groepen krijg je volle aandacht voor jouw leerproces.\nDe opleidingsdagen beginnen om 09:30 en eindigt omstreeks 16:00 uur\nDe investering voor deze opleiding bedraagt € 4295\,- en is vrijgesteld van BTW. Lunch\, koffie en thee zijn inbegrepen\nDe literatuurkosten zijn niet inbegrepen en bij benadering: 6 paperback/ hardcover boeken zijn circa € 150\,-/ E-books circa € 90\,-\nAan de opleiding zijn 144 Permanente Educatie uren toegekend door de Nederlandse Orde van Beroepscoaches (NOBCO). Meer informatie tref je aan op: nobco.nl\n\nJouw opleider\nNicki van Heugten is jouw vaste opleider. Gedurende de opleiding ontmoet je ook verschillende gastdocenten zodat je het vak van verschillende rolmodellen leert. \n\nReviews\n\n  \n  \n\n 
URL:https://jategennuacademie.nl/aanbod/opleiding-systemisch-begeleider-en-opsteller/
LOCATION:Ja tegen Nu Academie Luciushof\, Putgraaf 3\, Heerlen\, Limburg\, 6411 GT\, Nederland
CATEGORIES:Opleidingen
ATTACH;FMTTYPE=image/jpeg:https://jategennuacademie.nl/wp-content/uploads/2022/12/ja-tegen-nu-academie-image-het-ambacht-van-holding-space-e1710849740546.jpg
END:VEVENT
BEGIN:VEVENT
DTSTART;TZID=Europe/Amsterdam:20260530T100000
DTEND;TZID=Europe/Amsterdam:20260530T150000
DTSTAMP:20260424T153629
CREATED:20231120T095710Z
LAST-MODIFIED:20260420T102844Z
UID:8433-1780135200-1780153200@jategennuacademie.nl
SUMMARY:Open Opstellingendag
DESCRIPTION:Maak kennis met ons werk op de\nOpen Opstellingendag\n\nBij Ja tegen Nu hebben we meer dan 16 jaar ervaring met\, én expertise in\, het Systemisch werk. Via onze academie leiden wij mensen op tot professionals in het Systemische werkveld. Onze aanpak is diepgaand en nuchter vanuit een gedegen en professionele grondhouding. \nBen je nieuwsgierig naar de Ja tegen Nu Academie? Overweeg je om een opleiding bij ons te volgen en wil je graag eerst ervaren hoe wij te werk gaan? Of heb je een persoonlijke of professionele vraag die je graag zou willen onderzoeken in een groep? Dan ben je van harte welkom en uitgenodigd op onze ‘Open Opstellingendag’ \nEen opstelling?  \nEen opstelling is een effectieve methode om de innerlijke belevingswereld zichtbaar te maken. Hierdoor worden de dynamieken en patronen in een systeem (familie-\, relatie-\, team- of organisatiesysteem) zichtbaar gemaakt en ontstaat de mogelijkheid om vanuit verschillende perspectieven naar het vraagstuk te kijken. Dit wordt vaak door de vraagsteller ervaren als een mogelijkheid om met meer vrijheid en ruimte naar het eigen vraagstuk te kijken. \nHet leven kan alleen achterwaarts begrepen worden\, maar moet voorwaarts worden geleefd.” Søren Kierkegaard\nWanneer is deze open opstellingdag behulpzaam? Als…\n\nJe nieuwsgierig bent naar onze werkwijze of een van onze opleidingen overweegt\nJe meer inzicht wilt in de dynamiek en patronen binnen jouw familie of een ander systeem\nWanneer je last ervaart van een patroon en daar een beweging in wilt maken\nWanneer je het idee hebt dat je een last draagt die niet van jou is\nJe vragen hebt over schuldgevoelens\, angst\, schaamte\, boosheid\, besluiteloosheid\, faal- of succes angst ervaart of moeite hebt met hiërarchie\nRelaties moeizaam of verstoord zijn en bij het verwerken van scheidingen\nWanneer je wilt kijken naar de onderlinge relaties in jouw team of een vraag hebt in jouw werksetting\nJe voor een keuze staat en deze niet alleen vanuit je hoofd wilt maken maar ook systemische informatie mee wilt nemen in jouw overweging\n\nNa en door de opstelling ontstaat doorgaans:\n\nInzicht in de (ver)storingen\nRuimte voor met maken van een beweging\nZicht op mogelijke oplossingen\nMeer innerlijke rust en aanvaarding\nMeer (zelf)vertrouwen en helderheid\nToename van innerlijke vrede en verbondenheid\nEen gevoel van opluchting\nVermindering van eenzaamheid\n\nWat kan je verwachten:\nTot voor kort kon je bij Ja tegen Nu alleen jouw vraag stellen in een individuele opstelling (één op één) of in een lopende opleidingsgroep. Hiernaast bieden we ook verschillende meerdaagse systemische retraites aan waarin je jouw vragen kunt laten opstellen. Omdat de vraag naar onze opleidingen en opstellingen groeit bieden we deze Open Opstellingendag aan. Het is een mogelijkheid om kosteloos kennis te maken met onze werkwijze. \nDe begeleiding:\nNicki van Heugten is deze dag jouw opsteller en begeleider. \nHoe kom ik daar?\n\nKies onderaan deze pagina de juiste datum en vul je gegevens in. We werken op deze dagen van 10:00-15:00 uur. Koffie & thee zijn van het huis en inbegrepen. Neem svp zelf je lunch mee. Er zijn maximaal 12 plekken te vergeven.\nWil je graag een individuele opstelling door Susan laat dan in het inschrijfformulier jouw gegevens achter: Klik hier. Susan neemt dan contact met jou op voor het maken van een afspraak. De investering van een individuele opstelling in Heerlen bedraagt €180\,-.\nWanneer je graag in een meerdaagse retraite jouw vraagstuk wilt onderzoeken verwijzen we je naar de verschillende retaites: Klik hier\n\nLet op: pas de tickets aan naar het juiste aantal!\nIedereen mag één datum kiezen\, zodat iedereen een eerlijke kans heeft om een gratis sessie te boeken. Zo zorgen we ervoor dat zoveel mogelijk mensen kunnen deelnemen.
URL:https://jategennuacademie.nl/aanbod/open-opstellingendag/
LOCATION:Ja tegen Nu Academie Valkenburgerweg\, Valkenburgerweg 19\, Heerlen\, Limburg\, 6411BM\, Nederland
ATTACH;FMTTYPE=image/jpeg:https://jategennuacademie.nl/wp-content/uploads/2022/11/ja-tegen-nu-academie-individuele-opstelling.jpg
END:VEVENT
END:VCALENDAR